BEGIN:VCALENDAR
VERSION:2.0
PRODID:-//IPPN - ECPv6.15.16.1//NONSGML v1.0//EN
CALSCALE:GREGORIAN
METHOD:PUBLISH
X-ORIGINAL-URL:https://ippn.org.br
X-WR-CALDESC:Eventos para IPPN
REFRESH-INTERVAL;VALUE=DURATION:PT1H
X-Robots-Tag:noindex
X-PUBLISHED-TTL:PT1H
BEGIN:VTIMEZONE
TZID:America/Sao_Paulo
BEGIN:STANDARD
TZOFFSETFROM:-0300
TZOFFSETTO:-0300
TZNAME:-03
DTSTART:20250101T000000
END:STANDARD
END:VTIMEZONE
BEGIN:VEVENT
DTSTART;TZID=America/Sao_Paulo:20260808T090000
DTEND;TZID=America/Sao_Paulo:20260808T090000
DTSTAMP:20260423T201510
CREATED:20260217T175132Z
LAST-MODIFIED:20260217T180555Z
UID:3241-1786179600-1786179600@ippn.org.br
SUMMARY:UPA - Atividade - Pais e Filhos
DESCRIPTION:UPA – Atividade – Pais e Filhos
URL:https://ippn.org.br/evento/upa-atividade-pais-e-filhos/
CATEGORIES:Agenda
ORGANIZER;CN="UPA":MAILTO:contato@ippn.org.br
END:VEVENT
BEGIN:VEVENT
DTSTART;VALUE=DATE:20260815
DTEND;VALUE=DATE:20260816
DTSTAMP:20260423T201510
CREATED:20260217T175129Z
LAST-MODIFIED:20260217T180553Z
UID:3240-1786752000-1786838399@ippn.org.br
SUMMARY:Culto de Missões
DESCRIPTION:Culto de Missões
URL:https://ippn.org.br/evento/culto-de-missoes/
CATEGORIES:Agenda
ORGANIZER;CN="IPPN":MAILTO:contato@ippn.org.br
END:VEVENT
BEGIN:VEVENT
DTSTART;VALUE=DATE:20260822
DTEND;VALUE=DATE:20260823
DTSTAMP:20260423T201510
CREATED:20260217T175059Z
LAST-MODIFIED:20260217T180519Z
UID:3239-1787356800-1787443199@ippn.org.br
SUMMARY:UPA - DNA - Tamboré
DESCRIPTION:UPA – DNA – Tamboré
URL:https://ippn.org.br/evento/upa-dna-tambore/
CATEGORIES:Agenda
ORGANIZER;CN="UPA":MAILTO:contato@ippn.org.br
END:VEVENT
BEGIN:VEVENT
DTSTART;TZID=America/Sao_Paulo:20260823T110000
DTEND;TZID=America/Sao_Paulo:20260823T120000
DTSTAMP:20260423T201510
CREATED:20260217T175059Z
LAST-MODIFIED:20260217T180518Z
UID:3238-1787482800-1787486400@ippn.org.br
SUMMARY:Plenária - Todas as Sociedades
DESCRIPTION:Plenária – Todas as Sociedades
URL:https://ippn.org.br/evento/plenaria-todas-as-sociedades/
CATEGORIES:Agenda
ORGANIZER;CN="IPPN":MAILTO:contato@ippn.org.br
END:VEVENT
BEGIN:VEVENT
DTSTART;VALUE=DATE:20260828
DTEND;VALUE=DATE:20260831
DTSTAMP:20260423T201510
CREATED:20260217T175058Z
LAST-MODIFIED:20260217T180518Z
UID:3237-1787875200-1788134399@ippn.org.br
SUMMARY:UMP - Retiro
DESCRIPTION:UMP – Retiro
URL:https://ippn.org.br/evento/ump-retiro/
CATEGORIES:Agenda
ORGANIZER;CN="UMP":MAILTO:contato@ippn.org.br
END:VEVENT
BEGIN:VEVENT
DTSTART;VALUE=DATE:20260829
DTEND;VALUE=DATE:20260830
DTSTAMP:20260423T201510
CREATED:20260217T175058Z
LAST-MODIFIED:20260217T180517Z
UID:3236-1787961600-1788047999@ippn.org.br
SUMMARY:UCP - Atividade da Federação
DESCRIPTION:UCP – Atividade da Federação
URL:https://ippn.org.br/evento/ucp-atividade-da-federacao/
CATEGORIES:Agenda
ORGANIZER;CN="UCP":MAILTO:contato@ippn.org.br
END:VEVENT
BEGIN:VEVENT
DTSTART;TZID=America/Sao_Paulo:20260830T200000
DTEND;TZID=America/Sao_Paulo:20260830T200000
DTSTAMP:20260423T201510
CREATED:20260217T175056Z
LAST-MODIFIED:20260217T180515Z
UID:3235-1788120000-1788120000@ippn.org.br
SUMMARY:PG - Reunião - Liderança
DESCRIPTION:PG – Reunião – Liderança
URL:https://ippn.org.br/evento/pg-reuniao-lideranca/
CATEGORIES:Agenda
ORGANIZER;CN="IPPN":MAILTO:contato@ippn.org.br
END:VEVENT
BEGIN:VEVENT
DTSTART;TZID=America/Sao_Paulo:20260904T200000
DTEND;TZID=America/Sao_Paulo:20260904T200000
DTSTAMP:20260423T201510
CREATED:20260217T175049Z
LAST-MODIFIED:20260217T180503Z
UID:3234-1788552000-1788552000@ippn.org.br
SUMMARY:PG - UMP
DESCRIPTION:PG – UMP
URL:https://ippn.org.br/evento/pg-ump-2/
CATEGORIES:Agenda
ORGANIZER;CN="UMP":MAILTO:contato@ippn.org.br
END:VEVENT
BEGIN:VEVENT
DTSTART;VALUE=DATE:20260912
DTEND;VALUE=DATE:20260913
DTSTAMP:20260423T201510
CREATED:20260217T175048Z
LAST-MODIFIED:20260217T180502Z
UID:3233-1789171200-1789257599@ippn.org.br
SUMMARY:UPH - Projeto IDE
DESCRIPTION:UPH – Projeto IDE
URL:https://ippn.org.br/evento/uph-projeto-ide/
CATEGORIES:Agenda
ORGANIZER;CN="UPH":MAILTO:contato@ippn.org.br
END:VEVENT
BEGIN:VEVENT
DTSTART;VALUE=DATE:20260912
DTEND;VALUE=DATE:20260913
DTSTAMP:20260423T201510
CREATED:20260217T175048Z
LAST-MODIFIED:20260217T180502Z
UID:3232-1789171200-1789257599@ippn.org.br
SUMMARY:UCP - Encontro
DESCRIPTION:UCP – Encontro
URL:https://ippn.org.br/evento/ucp-encontro/
CATEGORIES:Agenda
ORGANIZER;CN="UCP":MAILTO:contato@ippn.org.br
END:VEVENT
BEGIN:VEVENT
DTSTART;VALUE=DATE:20260918
DTEND;VALUE=DATE:20260919
DTSTAMP:20260423T201510
CREATED:20260217T175047Z
LAST-MODIFIED:20260217T180501Z
UID:3231-1789689600-1789775999@ippn.org.br
SUMMARY:PG Casais
DESCRIPTION:PG Casais
URL:https://ippn.org.br/evento/pg-casais/
CATEGORIES:Agenda
ORGANIZER;CN="UMP":MAILTO:contato@ippn.org.br
END:VEVENT
BEGIN:VEVENT
DTSTART;TZID=America/Sao_Paulo:20260919T190000
DTEND;TZID=America/Sao_Paulo:20260919T190000
DTSTAMP:20260423T201510
CREATED:20260217T175045Z
LAST-MODIFIED:20260217T180459Z
UID:3230-1789844400-1789844400@ippn.org.br
SUMMARY:UPA - Aniversário
DESCRIPTION:UPA – Aniversário
URL:https://ippn.org.br/evento/upa-aniversario/
CATEGORIES:Agenda
ORGANIZER;CN="UPA":MAILTO:contato@ippn.org.br
END:VEVENT
BEGIN:VEVENT
DTSTART;VALUE=DATE:20260925
DTEND;VALUE=DATE:20260926
DTSTAMP:20260423T201510
CREATED:20260217T175029Z
LAST-MODIFIED:20260217T180302Z
UID:3224-1790294400-1790380799@ippn.org.br
SUMMARY:Agrupa
DESCRIPTION:Agrupa
URL:https://ippn.org.br/evento/agrupa/
CATEGORIES:Agenda
ORGANIZER;CN="UPA":MAILTO:contato@ippn.org.br
END:VEVENT
BEGIN:VEVENT
DTSTART;VALUE=DATE:20260926
DTEND;VALUE=DATE:20260927
DTSTAMP:20260423T201510
CREATED:20260217T175028Z
LAST-MODIFIED:20260217T180301Z
UID:3222-1790380800-1790467199@ippn.org.br
SUMMARY:UPA/UMP -  Noite de Jogos
DESCRIPTION:UPA/UMP –  Noite de Jogos
URL:https://ippn.org.br/evento/upa-ump-noite-de-jogos/
CATEGORIES:Agenda
END:VEVENT
BEGIN:VEVENT
DTSTART;VALUE=DATE:20260926
DTEND;VALUE=DATE:20260927
DTSTAMP:20260423T201510
CREATED:20260217T175029Z
LAST-MODIFIED:20260217T180302Z
UID:3223-1790380800-1790467199@ippn.org.br
SUMMARY:SAF - Chá de Primavera
DESCRIPTION:SAF – Chá de Primavera
URL:https://ippn.org.br/evento/saf-cha-de-primavera/
CATEGORIES:Agenda
ORGANIZER;CN="SAF":MAILTO:contato@ippn.org.br
END:VEVENT
BEGIN:VEVENT
DTSTART;TZID=America/Sao_Paulo:20261002T200000
DTEND;TZID=America/Sao_Paulo:20261002T200000
DTSTAMP:20260423T201510
CREATED:20260217T175027Z
LAST-MODIFIED:20260217T180301Z
UID:3221-1790971200-1790971200@ippn.org.br
SUMMARY:UMP - PG Jovens
DESCRIPTION:UMP – PG Jovens
URL:https://ippn.org.br/evento/ump-pg-jovens/
CATEGORIES:Agenda
ORGANIZER;CN="UMP":MAILTO:contato@ippn.org.br
END:VEVENT
BEGIN:VEVENT
DTSTART;VALUE=DATE:20261016
DTEND;VALUE=DATE:20261018
DTSTAMP:20260423T201510
CREATED:20260217T175025Z
LAST-MODIFIED:20260217T180259Z
UID:3220-1792108800-1792281599@ippn.org.br
SUMMARY:UCP - Acampadentro
DESCRIPTION:UCP – Acampadentro
URL:https://ippn.org.br/evento/ucp-acampadentro/
CATEGORIES:Agenda
ORGANIZER;CN="UCP":MAILTO:contato@ippn.org.br
END:VEVENT
BEGIN:VEVENT
DTSTART;VALUE=DATE:20261017
DTEND;VALUE=DATE:20261018
DTSTAMP:20260423T201510
CREATED:20260217T175017Z
LAST-MODIFIED:20260217T180101Z
UID:3219-1792195200-1792281599@ippn.org.br
SUMMARY:UPA - Atividade Federação - Reforma Protestante
DESCRIPTION:UPA -Atividade Federação – Reforma Protestante
URL:https://ippn.org.br/evento/upa-atividade-federacao-reforma-protestante/
CATEGORIES:Agenda
ORGANIZER;CN="UPA":MAILTO:contato@ippn.org.br
END:VEVENT
BEGIN:VEVENT
DTSTART;VALUE=DATE:20261023
DTEND;VALUE=DATE:20261025
DTSTAMP:20260423T201510
CREATED:20260217T175017Z
LAST-MODIFIED:20260217T180100Z
UID:3218-1792713600-1792886399@ippn.org.br
SUMMARY:UMP - Treinamento
DESCRIPTION:UMP – Treinamento
URL:https://ippn.org.br/evento/ump-treinamento/
CATEGORIES:Agenda
ORGANIZER;CN="UMP":MAILTO:contato@ippn.org.br
END:VEVENT
BEGIN:VEVENT
DTSTART;VALUE=DATE:20261024
DTEND;VALUE=DATE:20261025
DTSTAMP:20260423T201510
CREATED:20260217T175016Z
LAST-MODIFIED:20260217T180059Z
UID:3216-1792800000-1792886399@ippn.org.br
SUMMARY:UPA - Day UPA
DESCRIPTION:UPA – Day UPA
URL:https://ippn.org.br/evento/upa-day-upa/
CATEGORIES:Agenda
ORGANIZER;CN="UPA":MAILTO:contato@ippn.org.br
END:VEVENT
BEGIN:VEVENT
DTSTART;TZID=America/Sao_Paulo:20261025T110000
DTEND;TZID=America/Sao_Paulo:20261025T120000
DTSTAMP:20260423T201510
CREATED:20260217T175016Z
LAST-MODIFIED:20260217T180100Z
UID:3217-1792926000-1792929600@ippn.org.br
SUMMARY:Plenária Eletiva - Todas as Sociedades
DESCRIPTION:Plenária Eletiva – Todas as Sociedades
URL:https://ippn.org.br/evento/plenaria-eletiva-todas-as-sociedades/
CATEGORIES:Agenda
ORGANIZER;CN="IPPN":MAILTO:contato@ippn.org.br
END:VEVENT
BEGIN:VEVENT
DTSTART;VALUE=DATE:20261031
DTEND;VALUE=DATE:20261101
DTSTAMP:20260423T201510
CREATED:20260217T175014Z
LAST-MODIFIED:20260217T180057Z
UID:3215-1793404800-1793491199@ippn.org.br
SUMMARY:Conselho - Culto da Reforma
DESCRIPTION:Conselho – Culto da Reforma
URL:https://ippn.org.br/evento/conselho-culto-da-reforma/
CATEGORIES:Agenda
ORGANIZER;CN="CONSELHO":MAILTO:contato@ippn.org.br
END:VEVENT
BEGIN:VEVENT
DTSTART;TZID=America/Sao_Paulo:20261106T200000
DTEND;TZID=America/Sao_Paulo:20261106T200000
DTSTAMP:20260423T201510
CREATED:20260217T174856Z
LAST-MODIFIED:20260217T180049Z
UID:3207-1793995200-1793995200@ippn.org.br
SUMMARY:PG UMP
DESCRIPTION:PG UMP
URL:https://ippn.org.br/evento/pg-ump/
CATEGORIES:Agenda
ORGANIZER;CN="UMP":MAILTO:contato@ippn.org.br
END:VEVENT
BEGIN:VEVENT
DTSTART;VALUE=DATE:20261107
DTEND;VALUE=DATE:20261108
DTSTAMP:20260423T201510
CREATED:20260217T174856Z
LAST-MODIFIED:20260217T180048Z
UID:3206-1794009600-1794095999@ippn.org.br
SUMMARY:UTINGA - Passeio
DESCRIPTION:UTINGA – Passeio
URL:https://ippn.org.br/evento/utinga-passeio/
CATEGORIES:Agenda
END:VEVENT
BEGIN:VEVENT
DTSTART;VALUE=DATE:20261111
DTEND;VALUE=DATE:20261114
DTSTAMP:20260423T201510
CREATED:20260217T174855Z
LAST-MODIFIED:20260217T180048Z
UID:3205-1794355200-1794614399@ippn.org.br
SUMMARY:UTINGA - Acampamento Palavra da Vida - Alcance
DESCRIPTION:UTINGA – Acampamento Palavra da Vida – Alcane
URL:https://ippn.org.br/evento/utinga-acampamento-palavra-da-vida-alcance/
CATEGORIES:Agenda
END:VEVENT
BEGIN:VEVENT
DTSTART;TZID=America/Sao_Paulo:20261114T090000
DTEND;TZID=America/Sao_Paulo:20261114T090000
DTSTAMP:20260423T201510
CREATED:20260217T174855Z
LAST-MODIFIED:20260217T180047Z
UID:3204-1794646800-1794646800@ippn.org.br
SUMMARY:UCP - Encerramento
DESCRIPTION:UCP – Encerramento
URL:https://ippn.org.br/evento/ucp-encerramento/
CATEGORIES:Agenda
ORGANIZER;CN="UCP":MAILTO:contato@ippn.org.br
END:VEVENT
BEGIN:VEVENT
DTSTART;VALUE=DATE:20261121
DTEND;VALUE=DATE:20261122
DTSTAMP:20260423T201510
CREATED:20260217T174852Z
LAST-MODIFIED:20260217T180045Z
UID:3203-1795219200-1795305599@ippn.org.br
SUMMARY:SAF - Atividade 60 +
DESCRIPTION:SAF – Atividade 60 +
URL:https://ippn.org.br/evento/saf-atividade-60/
CATEGORIES:Agenda
ORGANIZER;CN="SAF":MAILTO:contato@ippn.org.br
END:VEVENT
BEGIN:VEVENT
DTSTART;TZID=America/Sao_Paulo:20261126T190000
DTEND;TZID=America/Sao_Paulo:20261126T190000
DTSTAMP:20260423T201510
CREATED:20260217T174851Z
LAST-MODIFIED:20260217T180041Z
UID:3202-1795719600-1795719600@ippn.org.br
SUMMARY:PGs - Culto de Ação de Graças
DESCRIPTION:PGs – Culto de Ação de Graças
URL:https://ippn.org.br/evento/pgs-culto-de-acao-de-gracas/
CATEGORIES:Agenda
ORGANIZER;CN="IPPN":MAILTO:contato@ippn.org.br
END:VEVENT
BEGIN:VEVENT
DTSTART;VALUE=DATE:20261127
DTEND;VALUE=DATE:20261128
DTSTAMP:20260423T201510
CREATED:20260217T174850Z
LAST-MODIFIED:20260217T180040Z
UID:3201-1795737600-1795823999@ippn.org.br
SUMMARY:UPA - Encerramento
DESCRIPTION:UPA – Encerramento
URL:https://ippn.org.br/evento/upa-encerramento/
CATEGORIES:Agenda
ORGANIZER;CN="IPPN":MAILTO:contato@ippn.org.br
END:VEVENT
BEGIN:VEVENT
DTSTART;VALUE=DATE:20261205
DTEND;VALUE=DATE:20261206
DTSTAMP:20260423T201510
CREATED:20260217T174849Z
LAST-MODIFIED:20260217T180039Z
UID:3200-1796428800-1796515199@ippn.org.br
SUMMARY:UMP - Encerramento
DESCRIPTION:UMP – Encerramento
URL:https://ippn.org.br/evento/ump-encerramento/
CATEGORIES:Agenda
ORGANIZER;CN="UMP":MAILTO:contato@ippn.org.br
END:VEVENT
END:VCALENDAR