BEGIN:VCALENDAR
VERSION:2.0
PRODID:-//IPPN - ECPv6.15.16.1//NONSGML v1.0//EN
CALSCALE:GREGORIAN
METHOD:PUBLISH
X-WR-CALNAME:IPPN
X-ORIGINAL-URL:https://ippn.org.br
X-WR-CALDESC:Eventos para IPPN
REFRESH-INTERVAL;VALUE=DURATION:PT1H
X-Robots-Tag:noindex
X-PUBLISHED-TTL:PT1H
BEGIN:VTIMEZONE
TZID:America/Sao_Paulo
BEGIN:STANDARD
TZOFFSETFROM:-0300
TZOFFSETTO:-0300
TZNAME:-03
DTSTART:20250101T000000
END:STANDARD
END:VTIMEZONE
BEGIN:VEVENT
DTSTART;VALUE=DATE:20260228
DTEND;VALUE=DATE:20260301
DTSTAMP:20260423T212401
CREATED:20260217T180829Z
LAST-MODIFIED:20260217T180829Z
UID:3344-1772236800-1772323199@ippn.org.br
SUMMARY:UMP Praia
DESCRIPTION:UMP Praia
URL:https://ippn.org.br/evento/ump-praia/
CATEGORIES:Agenda
ORGANIZER;CN="UMP":MAILTO:contato@ippn.org.br
END:VEVENT
BEGIN:VEVENT
DTSTART;VALUE=DATE:20260306
DTEND;VALUE=DATE:20260309
DTSTAMP:20260423T212401
CREATED:20260217T180828Z
LAST-MODIFIED:20260217T180828Z
UID:3343-1772755200-1773014399@ippn.org.br
SUMMARY:Treinamento Pastores Ubatuba
DESCRIPTION:Treinamento Pastores Ubatuba
URL:https://ippn.org.br/evento/treinamento-pastores-ubatuba/
CATEGORIES:Agenda
ORGANIZER;CN="IPPN":MAILTO:contato@ippn.org.br
END:VEVENT
BEGIN:VEVENT
DTSTART;TZID=America/Sao_Paulo:20260306T200000
DTEND;TZID=America/Sao_Paulo:20260306T200000
DTSTAMP:20260423T212401
CREATED:20260217T180828Z
LAST-MODIFIED:20260217T180828Z
UID:3342-1772827200-1772827200@ippn.org.br
SUMMARY:PG UMP
DESCRIPTION:PG UMP
URL:https://ippn.org.br/evento/pg-ump-5/
CATEGORIES:Agenda
ORGANIZER;CN="UMP":MAILTO:contato@ippn.org.br
END:VEVENT
BEGIN:VEVENT
DTSTART;TZID=America/Sao_Paulo:20260314T090000
DTEND;TZID=America/Sao_Paulo:20260314T090000
DTSTAMP:20260423T212401
CREATED:20260217T180827Z
LAST-MODIFIED:20260217T180827Z
UID:3341-1773478800-1773478800@ippn.org.br
SUMMARY:UCP - Encontro
DESCRIPTION:Encontro – UCP
URL:https://ippn.org.br/evento/ucp-encontro-7/
CATEGORIES:Agenda
ORGANIZER;CN="UCP":MAILTO:contato@ippn.org.br
END:VEVENT
BEGIN:VEVENT
DTSTART;VALUE=DATE:20260320
DTEND;VALUE=DATE:20260323
DTSTAMP:20260423T212401
CREATED:20260217T180814Z
LAST-MODIFIED:20260217T180814Z
UID:3339-1773964800-1774223999@ippn.org.br
SUMMARY:Viagem Missionária - Ubatuba
DESCRIPTION:Viagem Missionária – Ubatuba
URL:https://ippn.org.br/evento/viagem-missionaria-ubatuba/
CATEGORIES:Agenda
ORGANIZER;CN="IPPN":MAILTO:contato@ippn.org.br
END:VEVENT
BEGIN:VEVENT
DTSTART;VALUE=DATE:20260321
DTEND;VALUE=DATE:20260322
DTSTAMP:20260423T212401
CREATED:20260217T180825Z
LAST-MODIFIED:20260217T180825Z
UID:3340-1774051200-1774137599@ippn.org.br
SUMMARY:UPA - Federação - Fest UPA
DESCRIPTION:UPA – Federação – Fest UPA
URL:https://ippn.org.br/evento/upa-federacao-fest-upa/
CATEGORIES:Agenda
ORGANIZER;CN="UPA":MAILTO:contato@ippn.org.br
END:VEVENT
BEGIN:VEVENT
DTSTART;VALUE=DATE:20260327
DTEND;VALUE=DATE:20260328
DTSTAMP:20260423T212401
CREATED:20260217T180813Z
LAST-MODIFIED:20260217T180813Z
UID:3338-1774569600-1774655999@ippn.org.br
SUMMARY:Agrupa
DESCRIPTION:Agrupa
URL:https://ippn.org.br/evento/agrupa-4/
CATEGORIES:Agenda
ORGANIZER;CN="UPA":MAILTO:contato@ippn.org.br
END:VEVENT
BEGIN:VEVENT
DTSTART;TZID=America/Sao_Paulo:20260327T200000
DTEND;TZID=America/Sao_Paulo:20260327T200000
DTSTAMP:20260423T212401
CREATED:20260217T180813Z
LAST-MODIFIED:20260217T180813Z
UID:3337-1774641600-1774641600@ippn.org.br
SUMMARY:PG UMP - Jovens Casados
DESCRIPTION:PG UMP – Jovens Casados
URL:https://ippn.org.br/evento/pg-ump-jovens-casados-2/
CATEGORIES:Agenda
ORGANIZER;CN="UMP":MAILTO:contato@ippn.org.br
END:VEVENT
BEGIN:VEVENT
DTSTART;VALUE=DATE:20260404
DTEND;VALUE=DATE:20260405
DTSTAMP:20260423T212401
CREATED:20260217T180812Z
LAST-MODIFIED:20260217T180812Z
UID:3336-1775260800-1775347199@ippn.org.br
SUMMARY:UPH - Atividade
DESCRIPTION:UPH – Atividade
URL:https://ippn.org.br/evento/uph-atividade-2/
CATEGORIES:Agenda
ORGANIZER;CN="UPH":MAILTO:contato@ippn.org.br
END:VEVENT
BEGIN:VEVENT
DTSTART;VALUE=DATE:20260405
DTEND;VALUE=DATE:20260406
DTSTAMP:20260423T212401
CREATED:20260217T180810Z
LAST-MODIFIED:20260217T180810Z
UID:3335-1775347200-1775433599@ippn.org.br
SUMMARY:PÁSCOA
DESCRIPTION:PÁSCOA
URL:https://ippn.org.br/evento/pascoa/
CATEGORIES:Agenda
ORGANIZER;CN="IPPN":MAILTO:contato@ippn.org.br
END:VEVENT
BEGIN:VEVENT
DTSTART;VALUE=DATE:20260410
DTEND;VALUE=DATE:20260412
DTSTAMP:20260423T212401
CREATED:20260217T175546Z
LAST-MODIFIED:20260217T180757Z
UID:3289-1775779200-1775951999@ippn.org.br
SUMMARY:Conferência Pais e Filhos
DESCRIPTION:Conferência Pais e Filhos
URL:https://ippn.org.br/evento/conferencia-pais-e-filhos/
CATEGORIES:Agenda
ORGANIZER;CN="IPPN":MAILTO:contato@ippn.org.br
END:VEVENT
BEGIN:VEVENT
DTSTART;TZID=America/Sao_Paulo:20260412T110000
DTEND;TZID=America/Sao_Paulo:20260412T120000
DTSTAMP:20260423T212401
CREATED:20260217T175545Z
LAST-MODIFIED:20260217T180756Z
UID:3288-1775991600-1775995200@ippn.org.br
SUMMARY:Plenária - Todas as Sociedades
DESCRIPTION:Plenária – Todas as Sociedades
URL:https://ippn.org.br/evento/plenaria-todas-as-sociedades-3/
CATEGORIES:Agenda
ORGANIZER;CN="IPPN":MAILTO:contato@ippn.org.br
END:VEVENT
BEGIN:VEVENT
DTSTART;VALUE=DATE:20260418
DTEND;VALUE=DATE:20260422
DTSTAMP:20260423T212401
CREATED:20260217T175545Z
LAST-MODIFIED:20260217T180756Z
UID:3287-1776470400-1776815999@ippn.org.br
SUMMARY:Acampamento IPPN
DESCRIPTION:Acampamento IPPN
URL:https://ippn.org.br/evento/acampamento-ippn/
CATEGORIES:Agenda
ORGANIZER;CN="IPPN":MAILTO:contato@ippn.org.br
END:VEVENT
BEGIN:VEVENT
DTSTART;TZID=America/Sao_Paulo:20260424T200000
DTEND;TZID=America/Sao_Paulo:20260424T200000
DTSTAMP:20260423T212401
CREATED:20260217T175544Z
LAST-MODIFIED:20260217T180755Z
UID:3286-1777060800-1777060800@ippn.org.br
SUMMARY:PG - UMP
DESCRIPTION:PG – UMP
URL:https://ippn.org.br/evento/pg-ump-4/
CATEGORIES:Agenda
ORGANIZER;CN="UMP":MAILTO:contato@ippn.org.br
END:VEVENT
BEGIN:VEVENT
DTSTART;VALUE=DATE:20260425
DTEND;VALUE=DATE:20260426
DTSTAMP:20260423T212401
CREATED:20260217T175532Z
LAST-MODIFIED:20260217T180737Z
UID:3279-1777075200-1777161599@ippn.org.br
SUMMARY:Aniversário IPPN
DESCRIPTION:Aniversário IPPN
URL:https://ippn.org.br/evento/aniversario-ippn-2/
CATEGORIES:Agenda
ORGANIZER;CN="IPPN":MAILTO:contato@ippn.org.br
END:VEVENT
BEGIN:VEVENT
DTSTART;VALUE=DATE:20260425
DTEND;VALUE=DATE:20260426
DTSTAMP:20260423T212401
CREATED:20260217T175542Z
LAST-MODIFIED:20260217T180753Z
UID:3285-1777075200-1777161599@ippn.org.br
SUMMARY:Bazar - SAF
DESCRIPTION:Bazar – SAF
URL:https://ippn.org.br/evento/bazar-saf/
CATEGORIES:Agenda
ORGANIZER;CN="SAF":MAILTO:contato@ippn.org.br
END:VEVENT
BEGIN:VEVENT
DTSTART;VALUE=DATE:20260426
DTEND;VALUE=DATE:20260427
DTSTAMP:20260423T212401
CREATED:20260217T175531Z
LAST-MODIFIED:20260217T180736Z
UID:3278-1777161600-1777247999@ippn.org.br
SUMMARY:Aniversário IPPN
DESCRIPTION:Aniversário IPPN
URL:https://ippn.org.br/evento/aniversario-ippn/
CATEGORIES:Agenda
ORGANIZER;CN="IPPN":MAILTO:contato@ippn.org.br
END:VEVENT
BEGIN:VEVENT
DTSTART;TZID=America/Sao_Paulo:20260430T200000
DTEND;TZID=America/Sao_Paulo:20260430T200000
DTSTAMP:20260423T212401
CREATED:20260217T175531Z
LAST-MODIFIED:20260217T180736Z
UID:3277-1777579200-1777579200@ippn.org.br
SUMMARY:UMP - Vigília
DESCRIPTION:UMP – Vigília
URL:https://ippn.org.br/evento/ump-vigilia/
CATEGORIES:Agenda
ORGANIZER;CN="UMP":MAILTO:contato@ippn.org.br
END:VEVENT
BEGIN:VEVENT
DTSTART;VALUE=DATE:20260502
DTEND;VALUE=DATE:20260503
DTSTAMP:20260423T212401
CREATED:20260217T175530Z
LAST-MODIFIED:20260217T180735Z
UID:3276-1777680000-1777766399@ippn.org.br
SUMMARY:UCP - Encontro
DESCRIPTION:UCP – Encontro
URL:https://ippn.org.br/evento/ucp-encontro-6/
CATEGORIES:Agenda
ORGANIZER;CN="UCP":MAILTO:contato@ippn.org.br
END:VEVENT
BEGIN:VEVENT
DTSTART;TZID=America/Sao_Paulo:20260508T200000
DTEND;TZID=America/Sao_Paulo:20260508T200000
DTSTAMP:20260423T212401
CREATED:20260217T175528Z
LAST-MODIFIED:20260217T180733Z
UID:3275-1778270400-1778270400@ippn.org.br
SUMMARY:PG  UMP - Jovens Casados
DESCRIPTION:PG  UMP – Jovens Casados
URL:https://ippn.org.br/evento/pg-ump-jovens-casados/
CATEGORIES:Agenda
ORGANIZER;CN="UMP":MAILTO:contato@ippn.org.br
END:VEVENT
BEGIN:VEVENT
DTSTART;TZID=America/Sao_Paulo:20260509T090000
DTEND;TZID=America/Sao_Paulo:20260509T090000
DTSTAMP:20260423T212401
CREATED:20260217T175455Z
LAST-MODIFIED:20260217T180721Z
UID:3274-1778317200-1778317200@ippn.org.br
SUMMARY:UPA - Mães e Filhos
DESCRIPTION:UPA – Mães e Filhos
URL:https://ippn.org.br/evento/upa-maes-e-filhos/
CATEGORIES:Agenda
ORGANIZER;CN="UPA":MAILTO:contato@ippn.org.br
END:VEVENT
BEGIN:VEVENT
DTSTART;TZID=America/Sao_Paulo:20260509T090000
DTEND;TZID=America/Sao_Paulo:20260509T090000
DTSTAMP:20260423T212401
CREATED:20260217T175455Z
LAST-MODIFIED:20260217T180721Z
UID:3273-1778317200-1778317200@ippn.org.br
SUMMARY:UCP - Encontro
DESCRIPTION:UCP – Encontro
URL:https://ippn.org.br/evento/ucp-encontro-5/
CATEGORIES:Agenda
ORGANIZER;CN="UCP":MAILTO:contato@ippn.org.br
END:VEVENT
BEGIN:VEVENT
DTSTART;TZID=America/Sao_Paulo:20260510T080000
DTEND;TZID=America/Sao_Paulo:20260510T080000
DTSTAMP:20260423T212401
CREATED:20260217T175454Z
LAST-MODIFIED:20260217T180720Z
UID:3272-1778400000-1778400000@ippn.org.br
SUMMARY:Café da manhã - Dia das Mães
DESCRIPTION:Café da manhã – Dia das Mães
URL:https://ippn.org.br/evento/cafe-da-manha-dia-das-maes/
CATEGORIES:Agenda
ORGANIZER;CN="IPPN":MAILTO:contato@ippn.org.br
END:VEVENT
BEGIN:VEVENT
DTSTART;TZID=America/Sao_Paulo:20260513T090000
DTEND;TZID=America/Sao_Paulo:20260513T090000
DTSTAMP:20260423T212401
CREATED:20260217T175332Z
LAST-MODIFIED:20260217T180611Z
UID:3258-1778662800-1778662800@ippn.org.br
SUMMARY:UCP - Encontro
DESCRIPTION:UCP – Encontro
URL:https://ippn.org.br/evento/ucp-encontro-3/
CATEGORIES:Agenda
ORGANIZER;CN="IPPN":MAILTO:contato@ippn.org.br
END:VEVENT
BEGIN:VEVENT
DTSTART;VALUE=DATE:20260516
DTEND;VALUE=DATE:20260517
DTSTAMP:20260423T212401
CREATED:20260217T175451Z
LAST-MODIFIED:20260217T180718Z
UID:3270-1778889600-1778975999@ippn.org.br
SUMMARY:UMP - DJP - Mackenzie
DESCRIPTION:UMP – DJP – Mackenzie
URL:https://ippn.org.br/evento/ump-djp-mackenzie/
CATEGORIES:Agenda
ORGANIZER;CN="UMP":MAILTO:contato@ippn.org.br
END:VEVENT
BEGIN:VEVENT
DTSTART;VALUE=DATE:20260516
DTEND;VALUE=DATE:20260517
DTSTAMP:20260423T212401
CREATED:20260217T175453Z
LAST-MODIFIED:20260217T180719Z
UID:3271-1778889600-1778975999@ippn.org.br
SUMMARY:UPH - Atividade
DESCRIPTION:UPH – Atividade
URL:https://ippn.org.br/evento/uph-atividade/
CATEGORIES:Agenda
ORGANIZER;CN="UPH":MAILTO:contato@ippn.org.br
END:VEVENT
BEGIN:VEVENT
DTSTART;VALUE=DATE:20260523
DTEND;VALUE=DATE:20260524
DTSTAMP:20260423T212401
CREATED:20260217T175423Z
LAST-MODIFIED:20260217T180619Z
UID:3268-1779494400-1779580799@ippn.org.br
SUMMARY:Aniverário SAF
DESCRIPTION:Aniverário SAF
URL:https://ippn.org.br/evento/aniverario-saf/
CATEGORIES:Agenda
ORGANIZER;CN="SAF":MAILTO:contato@ippn.org.br
END:VEVENT
BEGIN:VEVENT
DTSTART;VALUE=DATE:20260523
DTEND;VALUE=DATE:20260524
DTSTAMP:20260423T212401
CREATED:20260217T175424Z
LAST-MODIFIED:20260217T180619Z
UID:3269-1779494400-1779580799@ippn.org.br
SUMMARY:UMP em Casa
DESCRIPTION:UMP – CASA
URL:https://ippn.org.br/evento/ump-em-casa/
CATEGORIES:Agenda
ORGANIZER;CN="UMP":MAILTO:contato@ippn.org.br
END:VEVENT
BEGIN:VEVENT
DTSTART;TZID=America/Sao_Paulo:20260529T200000
DTEND;TZID=America/Sao_Paulo:20260529T200000
DTSTAMP:20260423T212401
CREATED:20260217T175423Z
LAST-MODIFIED:20260217T180617Z
UID:3267-1780084800-1780084800@ippn.org.br
SUMMARY:Agrupa
DESCRIPTION:Agrupa
URL:https://ippn.org.br/evento/agrupa-3/
CATEGORIES:Agenda
ORGANIZER;CN="UPA":MAILTO:contato@ippn.org.br
END:VEVENT
BEGIN:VEVENT
DTSTART;VALUE=DATE:20260530
DTEND;VALUE=DATE:20260531
DTSTAMP:20260423T212401
CREATED:20260217T175422Z
LAST-MODIFIED:20260217T180617Z
UID:3266-1780099200-1780185599@ippn.org.br
SUMMARY:UCP - Encontro
DESCRIPTION:UCP – Encontro
URL:https://ippn.org.br/evento/ucp-encontro-4/
CATEGORIES:Agenda
ORGANIZER;CN="UCP":MAILTO:contato@ippn.org.br
END:VEVENT
END:VCALENDAR