BEGIN:VCALENDAR
VERSION:2.0
PRODID:-//IPPN - ECPv6.15.16.1//NONSGML v1.0//EN
CALSCALE:GREGORIAN
METHOD:PUBLISH
X-WR-CALNAME:IPPN
X-ORIGINAL-URL:https://ippn.org.br
X-WR-CALDESC:Eventos para IPPN
REFRESH-INTERVAL;VALUE=DURATION:PT1H
X-Robots-Tag:noindex
X-PUBLISHED-TTL:PT1H
BEGIN:VTIMEZONE
TZID:America/Sao_Paulo
BEGIN:STANDARD
TZOFFSETFROM:-0300
TZOFFSETTO:-0300
TZNAME:-03
DTSTART:20250101T000000
END:STANDARD
END:VTIMEZONE
BEGIN:VEVENT
DTSTART;TZID=America/Sao_Paulo:20260424T200000
DTEND;TZID=America/Sao_Paulo:20260424T200000
DTSTAMP:20260423T163220
CREATED:20260217T175544Z
LAST-MODIFIED:20260217T180755Z
UID:3286-1777060800-1777060800@ippn.org.br
SUMMARY:PG - UMP
DESCRIPTION:PG – UMP
URL:https://ippn.org.br/evento/pg-ump-4/
CATEGORIES:Agenda
ORGANIZER;CN="UMP":MAILTO:contato@ippn.org.br
END:VEVENT
BEGIN:VEVENT
DTSTART;VALUE=DATE:20260425
DTEND;VALUE=DATE:20260426
DTSTAMP:20260423T163220
CREATED:20260217T175532Z
LAST-MODIFIED:20260217T180737Z
UID:3279-1777075200-1777161599@ippn.org.br
SUMMARY:Aniversário IPPN
DESCRIPTION:Aniversário IPPN
URL:https://ippn.org.br/evento/aniversario-ippn-2/
CATEGORIES:Agenda
ORGANIZER;CN="IPPN":MAILTO:contato@ippn.org.br
END:VEVENT
BEGIN:VEVENT
DTSTART;VALUE=DATE:20260425
DTEND;VALUE=DATE:20260426
DTSTAMP:20260423T163220
CREATED:20260217T175542Z
LAST-MODIFIED:20260217T180753Z
UID:3285-1777075200-1777161599@ippn.org.br
SUMMARY:Bazar - SAF
DESCRIPTION:Bazar – SAF
URL:https://ippn.org.br/evento/bazar-saf/
CATEGORIES:Agenda
ORGANIZER;CN="SAF":MAILTO:contato@ippn.org.br
END:VEVENT
BEGIN:VEVENT
DTSTART;VALUE=DATE:20260426
DTEND;VALUE=DATE:20260427
DTSTAMP:20260423T163220
CREATED:20260217T175531Z
LAST-MODIFIED:20260217T180736Z
UID:3278-1777161600-1777247999@ippn.org.br
SUMMARY:Aniversário IPPN
DESCRIPTION:Aniversário IPPN
URL:https://ippn.org.br/evento/aniversario-ippn/
CATEGORIES:Agenda
ORGANIZER;CN="IPPN":MAILTO:contato@ippn.org.br
END:VEVENT
BEGIN:VEVENT
DTSTART;TZID=America/Sao_Paulo:20260430T200000
DTEND;TZID=America/Sao_Paulo:20260430T200000
DTSTAMP:20260423T163220
CREATED:20260217T175531Z
LAST-MODIFIED:20260217T180736Z
UID:3277-1777579200-1777579200@ippn.org.br
SUMMARY:UMP - Vigília
DESCRIPTION:UMP – Vigília
URL:https://ippn.org.br/evento/ump-vigilia/
CATEGORIES:Agenda
ORGANIZER;CN="UMP":MAILTO:contato@ippn.org.br
END:VEVENT
END:VCALENDAR