BEGIN:VCALENDAR
VERSION:2.0
PRODID:-//IPPN - ECPv6.15.16.1//NONSGML v1.0//EN
CALSCALE:GREGORIAN
METHOD:PUBLISH
X-ORIGINAL-URL:https://ippn.org.br
X-WR-CALDESC:Eventos para IPPN
REFRESH-INTERVAL;VALUE=DURATION:PT1H
X-Robots-Tag:noindex
X-PUBLISHED-TTL:PT1H
BEGIN:VTIMEZONE
TZID:America/Sao_Paulo
BEGIN:STANDARD
TZOFFSETFROM:-0300
TZOFFSETTO:-0300
TZNAME:-03
DTSTART:20250101T000000
END:STANDARD
END:VTIMEZONE
BEGIN:VEVENT
DTSTART;VALUE=DATE:20260828
DTEND;VALUE=DATE:20260831
DTSTAMP:20260423T232145
CREATED:20260217T175058Z
LAST-MODIFIED:20260217T180518Z
UID:3237-1787875200-1788134399@ippn.org.br
SUMMARY:UMP - Retiro
DESCRIPTION:UMP – Retiro
URL:https://ippn.org.br/evento/ump-retiro/
CATEGORIES:Agenda
ORGANIZER;CN="UMP":MAILTO:contato@ippn.org.br
END:VEVENT
BEGIN:VEVENT
DTSTART;VALUE=DATE:20260829
DTEND;VALUE=DATE:20260830
DTSTAMP:20260423T232145
CREATED:20260217T175058Z
LAST-MODIFIED:20260217T180517Z
UID:3236-1787961600-1788047999@ippn.org.br
SUMMARY:UCP - Atividade da Federação
DESCRIPTION:UCP – Atividade da Federação
URL:https://ippn.org.br/evento/ucp-atividade-da-federacao/
CATEGORIES:Agenda
ORGANIZER;CN="UCP":MAILTO:contato@ippn.org.br
END:VEVENT
END:VCALENDAR