BEGIN:VCALENDAR
VERSION:2.0
PRODID:-//IPPN - ECPv6.15.16.1//NONSGML v1.0//EN
CALSCALE:GREGORIAN
METHOD:PUBLISH
X-WR-CALNAME:IPPN
X-ORIGINAL-URL:https://ippn.org.br
X-WR-CALDESC:Eventos para IPPN
REFRESH-INTERVAL;VALUE=DURATION:PT1H
X-Robots-Tag:noindex
X-PUBLISHED-TTL:PT1H
BEGIN:VTIMEZONE
TZID:America/Sao_Paulo
BEGIN:STANDARD
TZOFFSETFROM:-0300
TZOFFSETTO:-0300
TZNAME:-03
DTSTART:20250101T000000
END:STANDARD
END:VTIMEZONE
BEGIN:VEVENT
DTSTART;VALUE=DATE:20260620
DTEND;VALUE=DATE:20260621
DTSTAMP:20260423T201908
CREATED:20260217T175329Z
LAST-MODIFIED:20260217T180608Z
UID:3255-1781913600-1781999999@ippn.org.br
SUMMARY:SAF- Missões
DESCRIPTION:SAF- Missões
URL:https://ippn.org.br/evento/saf-missoes/
CATEGORIES:Agenda
ORGANIZER;CN="SAF":MAILTO:contato@ippn.org.br
END:VEVENT
BEGIN:VEVENT
DTSTART;VALUE=DATE:20260620
DTEND;VALUE=DATE:20260621
DTSTAMP:20260423T201908
CREATED:20260217T175331Z
LAST-MODIFIED:20260217T180610Z
UID:3256-1781913600-1781999999@ippn.org.br
SUMMARY:UPA - DayCamp - Atividade da Federação
DESCRIPTION:UPA – DayCamp – Atividade da Federação
URL:https://ippn.org.br/evento/upa-daycamp-atividade-da-federacao/
CATEGORIES:Agenda
ORGANIZER;CN="UPA":MAILTO:contato@ippn.org.br
END:VEVENT
END:VCALENDAR