BEGIN:VCALENDAR
VERSION:2.0
PRODID:-//IPPN - ECPv6.15.16.1//NONSGML v1.0//EN
CALSCALE:GREGORIAN
METHOD:PUBLISH
X-WR-CALNAME:IPPN
X-ORIGINAL-URL:https://ippn.org.br
X-WR-CALDESC:Eventos para IPPN
REFRESH-INTERVAL;VALUE=DURATION:PT1H
X-Robots-Tag:noindex
X-PUBLISHED-TTL:PT1H
BEGIN:VTIMEZONE
TZID:America/Sao_Paulo
BEGIN:STANDARD
TZOFFSETFROM:-0300
TZOFFSETTO:-0300
TZNAME:-03
DTSTART:20250101T000000
END:STANDARD
END:VTIMEZONE
BEGIN:VEVENT
DTSTART;VALUE=DATE:20260410
DTEND;VALUE=DATE:20260412
DTSTAMP:20260423T180040
CREATED:20260217T175546Z
LAST-MODIFIED:20260217T180757Z
UID:3289-1775779200-1775951999@ippn.org.br
SUMMARY:Conferência Pais e Filhos
DESCRIPTION:Conferência Pais e Filhos
URL:https://ippn.org.br/evento/conferencia-pais-e-filhos/
CATEGORIES:Agenda
ORGANIZER;CN="IPPN":MAILTO:contato@ippn.org.br
END:VEVENT
END:VCALENDAR