BEGIN:VCALENDAR
VERSION:2.0
PRODID:-//IPPN - ECPv6.15.16.1//NONSGML v1.0//EN
CALSCALE:GREGORIAN
METHOD:PUBLISH
X-WR-CALNAME:IPPN
X-ORIGINAL-URL:https://ippn.org.br
X-WR-CALDESC:Eventos para IPPN
REFRESH-INTERVAL;VALUE=DURATION:PT1H
X-Robots-Tag:noindex
X-PUBLISHED-TTL:PT1H
BEGIN:VTIMEZONE
TZID:America/Sao_Paulo
BEGIN:STANDARD
TZOFFSETFROM:-0300
TZOFFSETTO:-0300
TZNAME:-03
DTSTART:20250101T000000
END:STANDARD
END:VTIMEZONE
BEGIN:VEVENT
DTSTART;VALUE=DATE:20260306
DTEND;VALUE=DATE:20260309
DTSTAMP:20260423T190734
CREATED:20260217T180828Z
LAST-MODIFIED:20260217T180828Z
UID:3343-1772755200-1773014399@ippn.org.br
SUMMARY:Treinamento Pastores Ubatuba
DESCRIPTION:Treinamento Pastores Ubatuba
URL:https://ippn.org.br/evento/treinamento-pastores-ubatuba/
CATEGORIES:Agenda
ORGANIZER;CN="IPPN":MAILTO:contato@ippn.org.br
END:VEVENT
BEGIN:VEVENT
DTSTART;TZID=America/Sao_Paulo:20260306T200000
DTEND;TZID=America/Sao_Paulo:20260306T200000
DTSTAMP:20260423T190734
CREATED:20260217T180828Z
LAST-MODIFIED:20260217T180828Z
UID:3342-1772827200-1772827200@ippn.org.br
SUMMARY:PG UMP
DESCRIPTION:PG UMP
URL:https://ippn.org.br/evento/pg-ump-5/
CATEGORIES:Agenda
ORGANIZER;CN="UMP":MAILTO:contato@ippn.org.br
END:VEVENT
END:VCALENDAR