BEGIN:VCALENDAR
VERSION:2.0
PRODID:-//IPPN - ECPv6.15.16.1//NONSGML v1.0//EN
CALSCALE:GREGORIAN
METHOD:PUBLISH
X-WR-CALNAME:IPPN
X-ORIGINAL-URL:https://ippn.org.br
X-WR-CALDESC:Eventos para IPPN
REFRESH-INTERVAL;VALUE=DURATION:PT1H
X-Robots-Tag:noindex
X-PUBLISHED-TTL:PT1H
BEGIN:VTIMEZONE
TZID:America/Sao_Paulo
BEGIN:STANDARD
TZOFFSETFROM:-0300
TZOFFSETTO:-0300
TZNAME:-03
DTSTART:20250101T000000
END:STANDARD
END:VTIMEZONE
BEGIN:VEVENT
DTSTART;TZID=America/Sao_Paulo:20260904T200000
DTEND;TZID=America/Sao_Paulo:20260904T200000
DTSTAMP:20260423T231702
CREATED:20260217T175049Z
LAST-MODIFIED:20260217T180503Z
UID:3234-1788552000-1788552000@ippn.org.br
SUMMARY:PG - UMP
DESCRIPTION:PG – UMP
URL:https://ippn.org.br/evento/pg-ump-2/
CATEGORIES:Agenda
ORGANIZER;CN="UMP":MAILTO:contato@ippn.org.br
END:VEVENT
BEGIN:VEVENT
DTSTART;VALUE=DATE:20260912
DTEND;VALUE=DATE:20260913
DTSTAMP:20260423T231702
CREATED:20260217T175048Z
LAST-MODIFIED:20260217T180502Z
UID:3232-1789171200-1789257599@ippn.org.br
SUMMARY:UCP - Encontro
DESCRIPTION:UCP – Encontro
URL:https://ippn.org.br/evento/ucp-encontro/
CATEGORIES:Agenda
ORGANIZER;CN="UCP":MAILTO:contato@ippn.org.br
END:VEVENT
BEGIN:VEVENT
DTSTART;VALUE=DATE:20260912
DTEND;VALUE=DATE:20260913
DTSTAMP:20260423T231702
CREATED:20260217T175048Z
LAST-MODIFIED:20260217T180502Z
UID:3233-1789171200-1789257599@ippn.org.br
SUMMARY:UPH - Projeto IDE
DESCRIPTION:UPH – Projeto IDE
URL:https://ippn.org.br/evento/uph-projeto-ide/
CATEGORIES:Agenda
ORGANIZER;CN="UPH":MAILTO:contato@ippn.org.br
END:VEVENT
BEGIN:VEVENT
DTSTART;VALUE=DATE:20260918
DTEND;VALUE=DATE:20260919
DTSTAMP:20260423T231702
CREATED:20260217T175047Z
LAST-MODIFIED:20260217T180501Z
UID:3231-1789689600-1789775999@ippn.org.br
SUMMARY:PG Casais
DESCRIPTION:PG Casais
URL:https://ippn.org.br/evento/pg-casais/
CATEGORIES:Agenda
ORGANIZER;CN="UMP":MAILTO:contato@ippn.org.br
END:VEVENT
BEGIN:VEVENT
DTSTART;TZID=America/Sao_Paulo:20260919T190000
DTEND;TZID=America/Sao_Paulo:20260919T190000
DTSTAMP:20260423T231702
CREATED:20260217T175045Z
LAST-MODIFIED:20260217T180459Z
UID:3230-1789844400-1789844400@ippn.org.br
SUMMARY:UPA - Aniversário
DESCRIPTION:UPA – Aniversário
URL:https://ippn.org.br/evento/upa-aniversario/
CATEGORIES:Agenda
ORGANIZER;CN="UPA":MAILTO:contato@ippn.org.br
END:VEVENT
BEGIN:VEVENT
DTSTART;VALUE=DATE:20260925
DTEND;VALUE=DATE:20260926
DTSTAMP:20260423T231702
CREATED:20260217T175029Z
LAST-MODIFIED:20260217T180302Z
UID:3224-1790294400-1790380799@ippn.org.br
SUMMARY:Agrupa
DESCRIPTION:Agrupa
URL:https://ippn.org.br/evento/agrupa/
CATEGORIES:Agenda
ORGANIZER;CN="UPA":MAILTO:contato@ippn.org.br
END:VEVENT
BEGIN:VEVENT
DTSTART;VALUE=DATE:20260926
DTEND;VALUE=DATE:20260927
DTSTAMP:20260423T231702
CREATED:20260217T175028Z
LAST-MODIFIED:20260217T180301Z
UID:3222-1790380800-1790467199@ippn.org.br
SUMMARY:UPA/UMP -  Noite de Jogos
DESCRIPTION:UPA/UMP –  Noite de Jogos
URL:https://ippn.org.br/evento/upa-ump-noite-de-jogos/
CATEGORIES:Agenda
END:VEVENT
BEGIN:VEVENT
DTSTART;VALUE=DATE:20260926
DTEND;VALUE=DATE:20260927
DTSTAMP:20260423T231702
CREATED:20260217T175029Z
LAST-MODIFIED:20260217T180302Z
UID:3223-1790380800-1790467199@ippn.org.br
SUMMARY:SAF - Chá de Primavera
DESCRIPTION:SAF – Chá de Primavera
URL:https://ippn.org.br/evento/saf-cha-de-primavera/
CATEGORIES:Agenda
ORGANIZER;CN="SAF":MAILTO:contato@ippn.org.br
END:VEVENT
END:VCALENDAR