BEGIN:VCALENDAR
VERSION:2.0
PRODID:-//IPPN - ECPv6.15.16.1//NONSGML v1.0//EN
CALSCALE:GREGORIAN
METHOD:PUBLISH
X-ORIGINAL-URL:https://ippn.org.br
X-WR-CALDESC:Eventos para IPPN
REFRESH-INTERVAL;VALUE=DURATION:PT1H
X-Robots-Tag:noindex
X-PUBLISHED-TTL:PT1H
BEGIN:VTIMEZONE
TZID:America/Sao_Paulo
BEGIN:STANDARD
TZOFFSETFROM:-0300
TZOFFSETTO:-0300
TZNAME:-03
DTSTART:20250101T000000
END:STANDARD
END:VTIMEZONE
BEGIN:VEVENT
DTSTART;VALUE=DATE:20260630
DTEND;VALUE=DATE:20260701
DTSTAMP:20260423T201829
CREATED:20260217T175319Z
LAST-MODIFIED:20260217T180602Z
UID:3253-1782777600-1782863999@ippn.org.br
SUMMARY:PG - Reunião - Liderança
DESCRIPTION:PG – Reunião – Liderança
URL:https://ippn.org.br/evento/pg-reuniao-lideranca-2/
CATEGORIES:Agenda
ORGANIZER;CN="IPPN":MAILTO:contato@ippn.org.br
END:VEVENT
BEGIN:VEVENT
DTSTART;VALUE=DATE:20260708
DTEND;VALUE=DATE:20260709
DTSTAMP:20260423T201829
CREATED:20260217T175318Z
LAST-MODIFIED:20260217T180601Z
UID:3252-1783468800-1783555199@ippn.org.br
SUMMARY:EBF - UCP
DESCRIPTION:EBF – UCP
URL:https://ippn.org.br/evento/ebf-ucp/
CATEGORIES:Agenda
ORGANIZER;CN="UCP":MAILTO:contato@ippn.org.br
END:VEVENT
BEGIN:VEVENT
DTSTART;VALUE=DATE:20260711
DTEND;VALUE=DATE:20260712
DTSTAMP:20260423T201829
CREATED:20260217T175318Z
LAST-MODIFIED:20260217T180601Z
UID:3251-1783728000-1783814399@ippn.org.br
SUMMARY:EBF - TEENS
DESCRIPTION:EBF – TEENS
URL:https://ippn.org.br/evento/ebf-teens/
CATEGORIES:Agenda
ORGANIZER;CN="UPA":MAILTO:contato@ippn.org.br
END:VEVENT
BEGIN:VEVENT
DTSTART;TZID=America/Sao_Paulo:20260731T200000
DTEND;TZID=America/Sao_Paulo:20260731T200000
DTSTAMP:20260423T201829
CREATED:20260217T175316Z
LAST-MODIFIED:20260217T180559Z
UID:3250-1785528000-1785528000@ippn.org.br
SUMMARY:Agrupa
DESCRIPTION:Agrupa
URL:https://ippn.org.br/evento/agrupa-2/
CATEGORIES:Agenda
ORGANIZER;CN="UPA":MAILTO:contato@ippn.org.br
END:VEVENT
END:VCALENDAR