BEGIN:VCALENDAR
VERSION:2.0
PRODID:-//IPPN - ECPv6.15.16.1//NONSGML v1.0//EN
CALSCALE:GREGORIAN
METHOD:PUBLISH
X-ORIGINAL-URL:https://ippn.org.br
X-WR-CALDESC:Eventos para IPPN
REFRESH-INTERVAL;VALUE=DURATION:PT1H
X-Robots-Tag:noindex
X-PUBLISHED-TTL:PT1H
BEGIN:VTIMEZONE
TZID:America/Sao_Paulo
BEGIN:STANDARD
TZOFFSETFROM:-0300
TZOFFSETTO:-0300
TZNAME:-03
DTSTART:20250101T000000
END:STANDARD
END:VTIMEZONE
BEGIN:VEVENT
DTSTART;VALUE=DATE:20260630
DTEND;VALUE=DATE:20260701
DTSTAMP:20260423T225036
CREATED:20260217T175319Z
LAST-MODIFIED:20260217T180602Z
UID:3253-1782777600-1782863999@ippn.org.br
SUMMARY:PG - Reunião - Liderança
DESCRIPTION:PG – Reunião – Liderança
URL:https://ippn.org.br/evento/pg-reuniao-lideranca-2/
CATEGORIES:Agenda
ORGANIZER;CN="IPPN":MAILTO:contato@ippn.org.br
END:VEVENT
END:VCALENDAR