BEGIN:VCALENDAR
VERSION:2.0
PRODID:-//IPPN - ECPv6.15.16.1//NONSGML v1.0//EN
CALSCALE:GREGORIAN
METHOD:PUBLISH
X-WR-CALNAME:IPPN
X-ORIGINAL-URL:https://ippn.org.br
X-WR-CALDESC:Eventos para IPPN
REFRESH-INTERVAL;VALUE=DURATION:PT1H
X-Robots-Tag:noindex
X-PUBLISHED-TTL:PT1H
BEGIN:VTIMEZONE
TZID:America/Sao_Paulo
BEGIN:STANDARD
TZOFFSETFROM:-0300
TZOFFSETTO:-0300
TZNAME:-03
DTSTART:20250101T000000
END:STANDARD
END:VTIMEZONE
BEGIN:VEVENT
DTSTART;TZID=America/Sao_Paulo:20260412T110000
DTEND;TZID=America/Sao_Paulo:20260412T120000
DTSTAMP:20260423T184058
CREATED:20260217T175545Z
LAST-MODIFIED:20260217T180756Z
UID:3288-1775991600-1775995200@ippn.org.br
SUMMARY:Plenária - Todas as Sociedades
DESCRIPTION:Plenária – Todas as Sociedades
URL:https://ippn.org.br/evento/plenaria-todas-as-sociedades-3/
CATEGORIES:Agenda
ORGANIZER;CN="IPPN":MAILTO:contato@ippn.org.br
END:VEVENT
END:VCALENDAR